BEGIN:VCALENDAR
VERSION:2.0
PRODID:-//lightbulb/agenda//NONSGML v1.0//EN
CALSCALE:GREGORIAN
METHOD:PUBLISH
BEGIN:VEVENT
DTSTART:20220410T090000
DTEND:20220501T180000
UID:615b89aebf971
DTSTAMP:20211005T010934
LOCATION:Fondazione Giorgio Cini
DESCRIPTION:
URL;VALUE=URI:https://creativecluster.lu/event/1475-homo-faber-crafting-more-human-future
SUMMARY:Homo Faber - Crafting a more human future
END:VEVENT
END:VCALENDAR
