BEGIN:VCALENDAR
VERSION:2.0
PRODID:-//lightbulb/agenda//NONSGML v1.0//EN
CALSCALE:GREGORIAN
METHOD:PUBLISH
BEGIN:VEVENT
DTSTART:20211125T100000
DTEND:20211128T183000
UID:615b850f70424
DTSTAMP:20211005T004951
LOCATION:19 Liberté
DESCRIPTION:
URL;VALUE=URI:https://creativecluster.lu/event/1494-biennale-internationale-des-metiers-dart-vivre-la-matiere
SUMMARY:Biennale Internationale des Métiers d’Art  - "Viv(r)e la matière"
END:VEVENT
END:VCALENDAR
