BEGIN:VCALENDAR
VERSION:2.0
PRODID:-//lightbulb/agenda//NONSGML v1.0//EN
CALSCALE:GREGORIAN
METHOD:PUBLISH
BEGIN:VEVENT
DTSTART:20211025T153000
DTEND:20211029T170000
UID:615b850b3710a
DTSTAMP:20211005T004947
LOCATION:Online
DESCRIPTION:
URL;VALUE=URI:https://creativecluster.lu/event/1499-deloittes-art-finance-panels
SUMMARY:Deloitte’s Art & Finance Panels
END:VEVENT
END:VCALENDAR
