BEGIN:VCALENDAR
VERSION:2.0
PRODID:-//lightbulb/agenda//NONSGML v1.0//EN
CALSCALE:GREGORIAN
METHOD:PUBLISH
BEGIN:VEVENT
DTSTART:20181104T100000
DTEND:20181104T190000
UID:5e2a83f938b44
DTSTAMP:20200124T064321
LOCATION:Kulturzentrum "Beim Nëssert"
DESCRIPTION:
URL;VALUE=URI:https://creativecluster.lu/event/607-augenschmaus-2-creators-market
SUMMARY:Augenschmaus 2 (Creators Market)
END:VEVENT
END:VCALENDAR
